BEGIN:VCALENDAR
VERSION:2.0
PRODID:icalendar-ruby
CALSCALE:GREGORIAN
METHOD:PUBLISH
BEGIN:VEVENT
DTSTAMP:20260421T104704Z
UID:5-400678@nhcf.church
DTSTART:20240505T150000Z
DTEND:20240505T160000Z
CLASS:PUBLIC
CREATED:20260420T192823
DESCRIPTION:Sunday Worship
LAST-MODIFIED:20260420T192823
LOCATION:
SUMMARY:Sunday Worship
URL;VALUE=URI:https://www.nhcf.church/events/sunday-worship/2024-05-05
END:VEVENT
END:VCALENDAR
