BEGIN:VCALENDAR
VERSION:2.0
PRODID:icalendar-ruby
CALSCALE:GREGORIAN
METHOD:PUBLISH
BEGIN:VEVENT
DTSTAMP:20260423T101419Z
UID:5-403812@nhcf.church
DTSTART:20240519T150000Z
DTEND:20240519T160000Z
CLASS:PUBLIC
CREATED:20260422T211637
DESCRIPTION:Sunday Worship
LAST-MODIFIED:20260422T211637
LOCATION:
SUMMARY:Sunday Worship
URL;VALUE=URI:https://www.nhcf.church/events/sunday-worship/2024-05-19
END:VEVENT
END:VCALENDAR
