BEGIN:VCALENDAR
VERSION:2.0
PRODID:icalendar-ruby
CALSCALE:GREGORIAN
METHOD:PUBLISH
BEGIN:VEVENT
DTSTAMP:20260423T114906Z
UID:5-404074@nhcf.church
DTSTART:20240526T150000Z
DTEND:20240526T160000Z
CLASS:PUBLIC
CREATED:20260423T064627
DESCRIPTION:Sunday Worship
LAST-MODIFIED:20260423T064627
LOCATION:
SUMMARY:Sunday Worship
URL;VALUE=URI:https://www.nhcf.church/events/sunday-worship/2024-05-26
END:VEVENT
END:VCALENDAR
