BEGIN:VCALENDAR
VERSION:2.0
PRODID:icalendar-ruby
CALSCALE:GREGORIAN
METHOD:PUBLISH
BEGIN:VEVENT
DTSTAMP:20260423T154632Z
UID:5-404338@nhcf.church
DTSTART:20240609T150000Z
DTEND:20240609T160000Z
CLASS:PUBLIC
CREATED:20260423T093948
DESCRIPTION:Sunday Worship
LAST-MODIFIED:20260423T093948
LOCATION:
SUMMARY:Sunday Worship
URL;VALUE=URI:https://www.nhcf.church/events/sunday-worship/2024-06-09
END:VEVENT
END:VCALENDAR
