BEGIN:VCALENDAR
VERSION:2.0
PRODID:icalendar-ruby
CALSCALE:GREGORIAN
METHOD:PUBLISH
BEGIN:VEVENT
DTSTAMP:20260423T210220Z
UID:5-404863@nhcf.church
DTSTART:20240630T150000Z
DTEND:20240630T160000Z
CLASS:PUBLIC
CREATED:20260423T153105
DESCRIPTION:Sunday Worship
LAST-MODIFIED:20260423T153105
LOCATION:
SUMMARY:Sunday Worship
URL;VALUE=URI:https://www.nhcf.church/events/sunday-worship/2024-06-30
END:VEVENT
END:VCALENDAR
