BEGIN:VCALENDAR
VERSION:2.0
PRODID:icalendar-ruby
CALSCALE:GREGORIAN
METHOD:PUBLISH
BEGIN:VEVENT
DTSTAMP:20260423T230731Z
UID:5-404864@nhcf.church
DTSTART:20240707T150000Z
DTEND:20240707T160000Z
CLASS:PUBLIC
CREATED:20260423T153105
DESCRIPTION:Sunday Worship
LAST-MODIFIED:20260423T153105
LOCATION:
SUMMARY:Sunday Worship
URL;VALUE=URI:https://www.nhcf.church/events/sunday-worship/2024-07-07
END:VEVENT
END:VCALENDAR
