BEGIN:VCALENDAR
VERSION:2.0
PRODID:icalendar-ruby
CALSCALE:GREGORIAN
METHOD:PUBLISH
BEGIN:VEVENT
DTSTAMP:20260424T050927Z
UID:5-405389@nhcf.church
DTSTART:20240728T150000Z
DTEND:20240728T160000Z
CLASS:PUBLIC
CREATED:20260423T211842
DESCRIPTION:Sunday Worship
LAST-MODIFIED:20260423T211842
LOCATION:
SUMMARY:Sunday Worship
URL;VALUE=URI:https://www.nhcf.church/events/sunday-worship/2024-07-28
END:VEVENT
END:VCALENDAR
