BEGIN:VCALENDAR
VERSION:2.0
PRODID:icalendar-ruby
CALSCALE:GREGORIAN
METHOD:PUBLISH
BEGIN:VEVENT
DTSTAMP:20260424T122517Z
UID:5-405654@nhcf.church
DTSTART:20240825T150000Z
DTEND:20240825T160000Z
CLASS:PUBLIC
CREATED:20260424T064700
DESCRIPTION:Sunday Worship
LAST-MODIFIED:20260424T064700
LOCATION:
SUMMARY:Sunday Worship
URL;VALUE=URI:https://www.nhcf.church/events/sunday-worship/2024-08-25
END:VEVENT
END:VCALENDAR
