BEGIN:VCALENDAR
VERSION:2.0
PRODID:icalendar-ruby
CALSCALE:GREGORIAN
METHOD:PUBLISH
BEGIN:VEVENT
DTSTAMP:20260424T175953Z
UID:5-406179@nhcf.church
DTSTART:20240915T150000Z
DTEND:20240915T160000Z
CLASS:PUBLIC
CREATED:20260424T122816
DESCRIPTION:Sunday Worship
LAST-MODIFIED:20260424T122816
LOCATION:
SUMMARY:Sunday Worship
URL;VALUE=URI:https://www.nhcf.church/events/sunday-worship/2024-09-15
END:VEVENT
END:VCALENDAR
