BEGIN:VCALENDAR
VERSION:2.0
PRODID:icalendar-ruby
CALSCALE:GREGORIAN
METHOD:PUBLISH
BEGIN:VEVENT
DTSTAMP:20260424T213708Z
UID:5-406442@nhcf.church
DTSTART:20240929T150000Z
DTEND:20240929T160000Z
CLASS:PUBLIC
CREATED:20260424T151512
DESCRIPTION:Sunday Worship
LAST-MODIFIED:20260424T151512
LOCATION:
SUMMARY:Sunday Worship
URL;VALUE=URI:https://www.nhcf.church/events/sunday-worship/2024-09-29
END:VEVENT
END:VCALENDAR
