BEGIN:VCALENDAR
VERSION:2.0
PRODID:icalendar-ruby
CALSCALE:GREGORIAN
METHOD:PUBLISH
BEGIN:VEVENT
DTSTAMP:20260424T233046Z
UID:5-406704@nhcf.church
DTSTART:20241006T150000Z
DTEND:20241006T160000Z
CLASS:PUBLIC
CREATED:20260424T180259
DESCRIPTION:Sunday Worship
LAST-MODIFIED:20260424T180259
LOCATION:
SUMMARY:Sunday Worship
URL;VALUE=URI:https://www.nhcf.church/events/sunday-worship/2024-10-06
END:VEVENT
END:VCALENDAR
