BEGIN:VCALENDAR
VERSION:2.0
PRODID:icalendar-ruby
CALSCALE:GREGORIAN
METHOD:PUBLISH
BEGIN:VEVENT
DTSTAMP:20260425T012156Z
UID:5-406705@nhcf.church
DTSTART:20241013T150000Z
DTEND:20241013T160000Z
CLASS:PUBLIC
CREATED:20260424T180259
DESCRIPTION:Sunday Worship
LAST-MODIFIED:20260424T180259
LOCATION:
SUMMARY:Sunday Worship
URL;VALUE=URI:https://www.nhcf.church/events/sunday-worship/2024-10-13
END:VEVENT
END:VCALENDAR
