BEGIN:VCALENDAR
VERSION:2.0
PRODID:icalendar-ruby
CALSCALE:GREGORIAN
METHOD:PUBLISH
BEGIN:VEVENT
DTSTAMP:20260425T114315Z
UID:5-407233@nhcf.church
DTSTART:20241124T160000Z
DTEND:20241124T170000Z
CLASS:PUBLIC
CREATED:20260425T063808
DESCRIPTION:Sunday Worship
LAST-MODIFIED:20260425T063808
LOCATION:
SUMMARY:Sunday Worship
URL;VALUE=URI:https://www.nhcf.church/events/sunday-worship/2024-11-24
END:VEVENT
END:VCALENDAR
