BEGIN:VCALENDAR
VERSION:2.0
PRODID:icalendar-ruby
CALSCALE:GREGORIAN
METHOD:PUBLISH
BEGIN:VEVENT
DTSTAMP:20260425T183058Z
UID:5-407759@nhcf.church
DTSTART:20241222T160000Z
DTEND:20241222T170000Z
CLASS:PUBLIC
CREATED:20260425T115937
DESCRIPTION:Sunday Worship
LAST-MODIFIED:20260425T115937
LOCATION:
SUMMARY:Sunday Worship
URL;VALUE=URI:https://www.nhcf.church/events/sunday-worship/2024-12-22
END:VEVENT
END:VCALENDAR
