BEGIN:VCALENDAR
VERSION:2.0
PRODID:icalendar-ruby
CALSCALE:GREGORIAN
METHOD:PUBLISH
BEGIN:VEVENT
DTSTAMP:20260425T220117Z
UID:5-408022@nhcf.church
DTSTART:20250105T160000Z
DTEND:20250105T170000Z
CLASS:PUBLIC
CREATED:20260425T144035
DESCRIPTION:Sunday Worship
LAST-MODIFIED:20260425T144035
LOCATION:
SUMMARY:Sunday Worship
URL;VALUE=URI:https://www.nhcf.church/events/sunday-worship/2025-01-05
END:VEVENT
END:VCALENDAR
