BEGIN:VCALENDAR
VERSION:2.0
PRODID:icalendar-ruby
CALSCALE:GREGORIAN
METHOD:PUBLISH
BEGIN:VEVENT
DTSTAMP:20260425T233849Z
UID:5-408284@nhcf.church
DTSTART:20250112T160000Z
DTEND:20250112T170000Z
CLASS:PUBLIC
CREATED:20260425T172258
DESCRIPTION:Sunday Worship
LAST-MODIFIED:20260425T172258
LOCATION:
SUMMARY:Sunday Worship
URL;VALUE=URI:https://www.nhcf.church/events/sunday-worship/2025-01-12
END:VEVENT
END:VCALENDAR
