BEGIN:VCALENDAR
VERSION:2.0
PRODID:icalendar-ruby
CALSCALE:GREGORIAN
METHOD:PUBLISH
BEGIN:VEVENT
DTSTAMP:20260426T024826Z
UID:5-408547@nhcf.church
DTSTART:20250126T160000Z
DTEND:20250126T170000Z
CLASS:PUBLIC
CREATED:20260425T200533
DESCRIPTION:Sunday Worship
LAST-MODIFIED:20260425T200533
LOCATION:
SUMMARY:Sunday Worship
URL;VALUE=URI:https://www.nhcf.church/events/sunday-worship/2025-01-26
END:VEVENT
END:VCALENDAR
